BEGIN:VCALENDAR
VERSION:2.0
PRODID:-//Sound Experience - ECPv6.15.18//NONSGML v1.0//EN
CALSCALE:GREGORIAN
METHOD:PUBLISH
X-ORIGINAL-URL:https://www.soundexp.org
X-WR-CALDESC:Events for Sound Experience
REFRESH-INTERVAL;VALUE=DURATION:PT1H
X-Robots-Tag:noindex
X-PUBLISHED-TTL:PT1H
BEGIN:VTIMEZONE
TZID:UTC
BEGIN:STANDARD
TZOFFSETFROM:+0000
TZOFFSETTO:+0000
TZNAME:UTC
DTSTART:20160101T000000
END:STANDARD
END:VTIMEZONE
BEGIN:VEVENT
DTSTART;TZID=UTC:20180317T170000
DTEND;TZID=UTC:20180317T190000
DTSTAMP:20260423T000248
CREATED:20180313T165203Z
LAST-MODIFIED:20180313T235234Z
UID:2816-1521306000-1521313200@www.soundexp.org
SUMMARY:Thank You Cookout
DESCRIPTION:Winter is coming to a close and our sailing season will start soon. Join us on Saturday at the Sound Experience Office for a cookout to help us thank all of our wonderful winter volunteers! \n 
URL:https://www.soundexp.org/event/thank-you-bbq/
LOCATION:Sound Experience Office\, 211 Seton Road\, Port Townsend\, WA\, 98368\, United States
CATEGORIES:Winter
ORGANIZER;CN="Sound Experience":MAILTO:amy@soundexp.org
END:VEVENT
BEGIN:VEVENT
DTSTART;VALUE=DATE:20180317
DTEND;VALUE=DATE:20180319
DTSTAMP:20260423T000248
CREATED:20180313T164852Z
LAST-MODIFIED:20180313T164853Z
UID:2814-1521244800-1521417599@www.soundexp.org
SUMMARY:Winter Work Weekend
DESCRIPTION:Join us for our final volunteer Winter Work Weekend of the year! \nThere will be painting\, varnishing\, sanding\, woodworking\, good food\, new friends\, and more…No experience necessary and all tools and protective gear provided! \nE-mail katie@soundexp.org for more information.
URL:https://www.soundexp.org/event/winter-work-weekend-7/
LOCATION:Boat Haven\, 2900 Washington St\, Port Townsend\, WA\, 98368\, United States
CATEGORIES:Winter
ORGANIZER;CN="Sound Experience":MAILTO:amy@soundexp.org
END:VEVENT
BEGIN:VEVENT
DTSTART;VALUE=DATE:20180217
DTEND;VALUE=DATE:20180219
DTSTAMP:20260423T000248
CREATED:20171121T171117Z
LAST-MODIFIED:20180207T013013Z
UID:2507-1518825600-1518998399@www.soundexp.org
SUMMARY:Winter Work Weekend - CANCELLED
DESCRIPTION:The February Winter Work Weekend has been cancelled. Please check back soon for the March Work Weekend dates! \n  \nJoin us for our forth volunteer Winter Work Weekend of the year! \nThere will be painting\, varnishing\, sanding\, woodworking\, good food\, new friends\, and more…No experience necessary and all tools and protective gear provided! \nE-mail katie@soundexp.org for more information.
URL:https://www.soundexp.org/event/winter-work-weekend-6/
LOCATION:WA
CATEGORIES:Winter
END:VEVENT
BEGIN:VEVENT
DTSTART;VALUE=DATE:20180113
DTEND;VALUE=DATE:20180116
DTSTAMP:20260423T000248
CREATED:20171121T002923Z
LAST-MODIFIED:20171121T171157Z
UID:2505-1515801600-1516060799@www.soundexp.org
SUMMARY:Winter Work Weekend
DESCRIPTION:Join us for our third volunteer Winter Work Weekend of the year! \nThere will be painting\, varnishing\, sanding\, woodworking\, good food\, new friends\, and more…No experience necessary and all tools and protective gear provided! \nE-mail katie@soundexp.org for more information.
URL:https://www.soundexp.org/event/winter-work-weekend-5/
LOCATION:WA
CATEGORIES:Winter
END:VEVENT
BEGIN:VEVENT
DTSTART;TZID=UTC:20171221T160000
DTEND;TZID=UTC:20171221T180000
DTSTAMP:20260423T000248
CREATED:20171219T021046Z
LAST-MODIFIED:20171219T021148Z
UID:2555-1513872000-1513879200@www.soundexp.org
SUMMARY:Solstice Event - 1st Annual Dock Lights Celebration
DESCRIPTION:Join us this Thursday for the 1st Annual Dock Lights Celebration sponsored by the Port of Port Townsend! \nCelebrate the season – marine style! An invitation for our community to stop by\, hear some holiday tunes\, sip some hot cider\, stroll the docks and yard\, & enjoy the festive lights! \nDate: Thursday\, December 21st \nTime: 4-6pm \nPlace: Boat Haven Marina & Boat Yard\,\n2601 Washington St\, Port Townsend\, WA 98368
URL:https://www.soundexp.org/event/2555/
LOCATION:WA
CATEGORIES:2017 Dockside Tours,Winter
END:VEVENT
BEGIN:VEVENT
DTSTART;VALUE=DATE:20171216
DTEND;VALUE=DATE:20171218
DTSTAMP:20260423T000248
CREATED:20171121T000626Z
LAST-MODIFIED:20171121T002945Z
UID:2502-1513382400-1513555199@www.soundexp.org
SUMMARY:Winter Work Weekend
DESCRIPTION:Join us for our second volunteer Winter Work Weekend of the year! \nThere will be painting\, varnishing\, sanding\, woodworking\, good food\, new friends\, and more…No experience necessary and all tools and protective gear provided! \nE-mail katie@soundexp.org for more information.
URL:https://www.soundexp.org/event/winter-work-weekend-4/
LOCATION:WA
CATEGORIES:Winter
END:VEVENT
BEGIN:VEVENT
DTSTART;VALUE=DATE:20171118
DTEND;VALUE=DATE:20171120
DTSTAMP:20260423T000248
CREATED:20171116T035455Z
LAST-MODIFIED:20171116T035455Z
UID:2494-1510963200-1511135999@www.soundexp.org
SUMMARY:Winter Work Weekend
DESCRIPTION:Join us for our first volunteer Winter Work Weekend of the year! \nThere will be painting\, varnishing\, sanding\, woodworking\, good food\, new friends\, and more…No experience necessary and all tools and protective gear provided! \nPort Townsend Boat Haven Marina: D Dock. Workday starts at 9:30am\, and join us for breakfast at 9:00am. \nE-mail katie@soundexp.org for more information.
URL:https://www.soundexp.org/event/winter-work-weekend-3/
LOCATION:Boat Haven\, 2900 Washington St\, Port Townsend\, WA\, 98368\, United States
CATEGORIES:Winter
END:VEVENT
BEGIN:VEVENT
DTSTART;TZID=UTC:20170304T080000
DTEND;TZID=UTC:20170305T160000
DTSTAMP:20260423T000248
CREATED:20161215T235816Z
LAST-MODIFIED:20170125T192801Z
UID:1699-1488614400-1488729600@www.soundexp.org
SUMMARY:Winter Work Weekend
DESCRIPTION:Get to know the ship and the Sound Experience community as you help prepare Adventuress for another year of service. All experience levels are welcome. \nIf you’re planning to attend any portion of the Work Weekend\, please email Port Captain Korie Griffith at korie@soundexp.org and let her know whether you would like a bunk (a limited number of bunks are available on a first-request basis) and if you have any dietary restrictions and allergies.
URL:https://www.soundexp.org/event/winter-work-weekend-2/
LOCATION:Point Hudson Marina\, 103 Hudson St\, Port Townsend\, WA\, 98368\, United States
CATEGORIES:Winter
END:VEVENT
BEGIN:VEVENT
DTSTART;TZID=UTC:20170114T080000
DTEND;TZID=UTC:20170116T160000
DTSTAMP:20260423T000248
CREATED:20161215T234313Z
LAST-MODIFIED:20161215T234313Z
UID:1691-1484380800-1484582400@www.soundexp.org
SUMMARY:Winter Work Weekend
DESCRIPTION:Join our wonderful Sound Experience community for fun\, bonding\, and boat work as we honor the legacy of Dr. Martin Luther King during the 3-day weekend. All experience levels are welcome. \nIf you’re planning to attend any portion of the Work Weekend\, please email Port Captain Korie Griffith at korie@soundexp.org and let her know whether you would like a bunk (a limited number of bunks are available on a first-request basis) and if you have any dietary restrictions and allergies.
URL:https://www.soundexp.org/event/winter-work-weekend/
LOCATION:Point Hudson Marina\, 103 Hudson St\, Port Townsend\, WA\, 98368\, United States
CATEGORIES:Winter
END:VEVENT
END:VCALENDAR